BEGIN:VCALENDAR
VERSION:2.0
PRODID:spatie/icalendar-generator
DESCRIPTION:Events from NotYourAverageVet
X-WR-CALDESC:Events from NotYourAverageVet
REFRESH-INTERVAL;VALUE=DURATION:PT1440M
X-PUBLISHED-TTL:PT1440M
BEGIN:VTIMEZONE
TZID:America/Edmonton
BEGIN:DAYLIGHT
DTSTART:20250309T020000Z
TZOFFSETFROM:-0700
TZOFFSETTO:-0600
END:DAYLIGHT
BEGIN:STANDARD
DTSTART:20251102T020000Z
TZOFFSETFROM:-0600
TZOFFSETTO:-0700
END:STANDARD
BEGIN:DAYLIGHT
DTSTART:20260308T020000Z
TZOFFSETFROM:-0700
TZOFFSETTO:-0600
END:DAYLIGHT
END:VTIMEZONE
BEGIN:VTIMEZONE
TZID:UTC
BEGIN:STANDARD
DTSTART:20250728T013022Z
TZOFFSETFROM:+0000
TZOFFSETTO:+0000
END:STANDARD
END:VTIMEZONE
BEGIN:VEVENT
UID:20-6
DTSTAMP:20260424T013022Z
SUMMARY:Town Centre Veterinary Hospital
LOCATION:
ORGANIZER;CN=Mari:MAILTO:notyouraveragevetblog@gmail.com
DTSTART;TZID=America/Edmonton:20251023T090000
DTEND;TZID=America/Edmonton:20251023T180000
X-ALT-DESC;FMTTYPE=TEXT/HTML:
CATEGORIES:General
URL;VALUE=URI:https://notyouraveragevet.com/mc-events/town-centre-veterinar
 y-hospital/
METHOD:PUBLISH
END:VEVENT
END:VCALENDAR