BEGIN:VCALENDAR
VERSION:2.0
PRODID:spatie/icalendar-generator
DESCRIPTION:Events from NotYourAverageVet
X-WR-CALDESC:Events from NotYourAverageVet
REFRESH-INTERVAL;VALUE=DURATION:PT1440M
X-PUBLISHED-TTL:PT1440M
BEGIN:VTIMEZONE
TZID:America/Edmonton
BEGIN:STANDARD
DTSTART:20251102T020000Z
TZOFFSETFROM:-0600
TZOFFSETTO:-0700
END:STANDARD
BEGIN:DAYLIGHT
DTSTART:20260308T020000Z
TZOFFSETFROM:-0700
TZOFFSETTO:-0600
END:DAYLIGHT
END:VTIMEZONE
BEGIN:VTIMEZONE
TZID:UTC
BEGIN:STANDARD
DTSTART:20250727T145436Z
TZOFFSETFROM:+0000
TZOFFSETTO:+0000
END:STANDARD
END:VTIMEZONE
BEGIN:VEVENT
UID:102-89
DTSTAMP:20260423T145436Z
SUMMARY:The Pet Hospital
LOCATION:
ORGANIZER;CN=Mari:MAILTO:notyouraveragevetblog@gmail.com
DTSTART;TZID=America/Edmonton:20260406T080000
DTEND;TZID=America/Edmonton:20260406T173000
X-ALT-DESC;FMTTYPE=TEXT/HTML:
CATEGORIES:General
URL;VALUE=URI:https://notyouraveragevet.com/mc-events/the-pet-hospital-5/
METHOD:PUBLISH
END:VEVENT
END:VCALENDAR