BEGIN:VCALENDAR
VERSION:2.0
PRODID:spatie/icalendar-generator
DESCRIPTION:Events from NotYourAverageVet
X-WR-CALDESC:Events from NotYourAverageVet
REFRESH-INTERVAL;VALUE=DURATION:PT1440M
X-PUBLISHED-TTL:PT1440M
BEGIN:VTIMEZONE
TZID:America/Edmonton
BEGIN:STANDARD
DTSTART:20251102T020000Z
TZOFFSETFROM:-0600
TZOFFSETTO:-0700
END:STANDARD
BEGIN:DAYLIGHT
DTSTART:20260308T020000Z
TZOFFSETFROM:-0700
TZOFFSETTO:-0600
END:DAYLIGHT
BEGIN:STANDARD
DTSTART:20261101T020000Z
TZOFFSETFROM:-0600
TZOFFSETTO:-0700
END:STANDARD
END:VTIMEZONE
BEGIN:VTIMEZONE
TZID:UTC
BEGIN:STANDARD
DTSTART:20250727T211444Z
TZOFFSETFROM:+0000
TZOFFSETTO:+0000
END:STANDARD
END:VTIMEZONE
BEGIN:VEVENT
UID:133-120
DTSTAMP:20260423T211444Z
SUMMARY:Bear Creek Animal Hospital
LOCATION:
ORGANIZER;CN=Mari:MAILTO:notyouraveragevetblog@gmail.com
DTSTART;TZID=America/Edmonton:20260526T083000
DTEND;TZID=America/Edmonton:20260526T173000
X-ALT-DESC;FMTTYPE=TEXT/HTML:
CATEGORIES:General
URL;VALUE=URI:https://notyouraveragevet.com/mc-events/bear-creek-animal-hos
 pital-3/
METHOD:PUBLISH
END:VEVENT
END:VCALENDAR